BEGIN:VCALENDAR
VERSION:2.0
PRODID:-//Fulton Street Collective - ECPv6.15.13//NONSGML v1.0//EN
CALSCALE:GREGORIAN
METHOD:PUBLISH
X-ORIGINAL-URL:https://fultonstreetcollective.com
X-WR-CALDESC:Events for Fulton Street Collective
REFRESH-INTERVAL;VALUE=DURATION:PT1H
X-Robots-Tag:noindex
X-PUBLISHED-TTL:PT1H
BEGIN:VTIMEZONE
TZID:America/Chicago
BEGIN:DAYLIGHT
TZOFFSETFROM:-0600
TZOFFSETTO:-0500
TZNAME:CDT
DTSTART:20250309T080000
END:DAYLIGHT
BEGIN:STANDARD
TZOFFSETFROM:-0500
TZOFFSETTO:-0600
TZNAME:CST
DTSTART:20251102T070000
END:STANDARD
BEGIN:DAYLIGHT
TZOFFSETFROM:-0600
TZOFFSETTO:-0500
TZNAME:CDT
DTSTART:20260308T080000
END:DAYLIGHT
BEGIN:STANDARD
TZOFFSETFROM:-0500
TZOFFSETTO:-0600
TZNAME:CST
DTSTART:20261101T070000
END:STANDARD
BEGIN:DAYLIGHT
TZOFFSETFROM:-0600
TZOFFSETTO:-0500
TZNAME:CDT
DTSTART:20270314T080000
END:DAYLIGHT
BEGIN:STANDARD
TZOFFSETFROM:-0500
TZOFFSETTO:-0600
TZNAME:CST
DTSTART:20271107T070000
END:STANDARD
END:VTIMEZONE
BEGIN:VEVENT
DTSTART;TZID=America/Chicago:20260503T153000
DTEND;TZID=America/Chicago:20260503T170000
DTSTAMP:20260423T200025
CREATED:20260411T005547Z
LAST-MODIFIED:20260411T005657Z
UID:8233-1777822200-1777827600@fultonstreetcollective.com
SUMMARY:Intentional & Elevated: A Meditative Drawing Workshop
DESCRIPTION:Unwind with a Creative Reset: a blend of yoga\, meditation\, and drawing designed to help you relax\, reconnect\, and create without pressure.\n\n\nIntentional & Elevated: A Meditative Drawing Experience \nJoin us at Fulton Street Collective on May 3 at 3:30 PM for a 90-minute creative reset designed to help you slow down\, reconnect\, and create. \nThis guided experience weaves together gentle yoga\, meditation\, and intuitive drawing\, inviting you to quiet the mind and tap into your natural creativity. No pressure\, no perfection\, just space to explore and unwind. \nWhether you’re new to yoga or drawing (or both)\, this class is for you. \n✨ Leave feeling grounded\, clear\, and creatively recharged\n🎨 Bring your favorite drawing tools or use ours\n🧘‍♀️ BYOYM (bring your own yoga mat; a limited number available) \nSpots are limited to keep the experience intimate. \n\n\n 
URL:https://fultonstreetcollective.com/event/intentional-elevated-a-meditative-drawing-workshop/
LOCATION:Fulton Street Collective\, 1821 West Hubbard Street\, #Unit 307\, Chicago\, IL\, 60622\, United States
CATEGORIES:Classes
ATTACH;FMTTYPE=image/jpeg:https://fultonstreetcollective.com/wp-content/uploads/2026/04/efb4812e339d523b92b073f6dc068dc7-6yLAqg.tmp_.jpg
END:VEVENT
END:VCALENDAR